BEGIN:VCALENDAR
VERSION:2.0
PRODID:-//Travel Begins at 40 - ECPv6.15.17.1//NONSGML v1.0//EN
CALSCALE:GREGORIAN
METHOD:PUBLISH
X-WR-CALNAME:Travel Begins at 40
X-ORIGINAL-URL:https://www.travelbeginsat40.com
X-WR-CALDESC:Events for Travel Begins at 40
REFRESH-INTERVAL;VALUE=DURATION:PT1H
X-Robots-Tag:noindex
X-PUBLISHED-TTL:PT1H
BEGIN:VTIMEZONE
TZID:Europe/London
BEGIN:DAYLIGHT
TZOFFSETFROM:+0000
TZOFFSETTO:+0100
TZNAME:BST
DTSTART:20250330T010000
END:DAYLIGHT
BEGIN:STANDARD
TZOFFSETFROM:+0100
TZOFFSETTO:+0000
TZNAME:GMT
DTSTART:20251026T010000
END:STANDARD
BEGIN:DAYLIGHT
TZOFFSETFROM:+0000
TZOFFSETTO:+0100
TZNAME:BST
DTSTART:20260329T010000
END:DAYLIGHT
BEGIN:STANDARD
TZOFFSETFROM:+0100
TZOFFSETTO:+0000
TZNAME:GMT
DTSTART:20261025T010000
END:STANDARD
BEGIN:DAYLIGHT
TZOFFSETFROM:+0000
TZOFFSETTO:+0100
TZNAME:BST
DTSTART:20270328T010000
END:DAYLIGHT
BEGIN:STANDARD
TZOFFSETFROM:+0100
TZOFFSETTO:+0000
TZNAME:GMT
DTSTART:20271031T010000
END:STANDARD
END:VTIMEZONE
BEGIN:VEVENT
DTSTART;VALUE=DATE:20260425
DTEND;VALUE=DATE:20260426
DTSTAMP:20260423T144424
CREATED:20260417T064522Z
LAST-MODIFIED:20260417T064522Z
UID:73718-1777075200-1777161599@www.travelbeginsat40.com
SUMMARY:Ales From Wales: Dee Valley Real Ale Train 2026\, Llangollen\, Wales
DESCRIPTION:Ales From Wales brings together heritage rail travel and Welsh brewing on the scenic Dee Valley line. \nRunning on selected Saturdays between 25 April and 10 October 2026\, this ticketed real-ale experience departs from Llangollen and offers passengers the chance to sample a curated range of Welsh ales while travelling through the Denbighshire countryside. Hosted by Llangollen Railway\, the event combines restored rolling stock with locally sourced beer\, creating a distinctive evening outing for real-ale enthusiasts and railway supporters alike. Each date operates as a standalone event with limited capacity\, maintaining an intimate atmosphere on board. Advance booking is required\, and trains depart at 17:00 from Llangollen station. \nAdditional Information on Ales From Wales: Dee Valley Real Ale Train\n\n2026 event dates: 25 April\, 9 May\, 13 June\, 18 July\, 15 August\, 12 September and 10 October.\nDeparture time: 17:00 from Llangollen Railway.\nTicket price: £20 (includes glass and first beer).\nOrganised by Llangollen Railway.\nVenue address: The Station\, Abbey Road\, Llangollen\, Denbighshire\, LL20 8SN.
URL:https://www.travelbeginsat40.com/event/ales-from-wales-dee-valley-real-ale-train-llangollen-wales/
LOCATION:Llangollen Railway – Dee Valley Line\, The Station\, Abbey Road\, Llangollen\, Denbighshire\, LL20 8SN\, Llangollen\, Denbighshire\, United Kingdom
CATEGORIES:Festivals in Europe,Festivals in Wales,Wine and Beer Festivals
ATTACH;FMTTYPE=image/jpeg:https://www.travelbeginsat40.com/wp-content/uploads/2026/03/RAT-Pannier.jpg
END:VEVENT
END:VCALENDAR